BEGIN:VCALENDAR
VERSION:2.0
PRODID:icalendar-ruby
CALSCALE:GREGORIAN
METHOD:PUBLISH
BEGIN:VEVENT
DTSTAMP:20260419T153709Z
UID:5-388891@revivecentralcoast.com
DTSTART:20260830T170000Z
DTEND:20260830T180000Z
CLASS:PUBLIC
CREATED:20260419T055727
DESCRIPTION:Sunday Worship
LAST-MODIFIED:20260419T055727
LOCATION:
SUMMARY:Sunday Worship
URL;VALUE=URI:https://revivecentralcoast.com/events/sunday-worship/2026-08-
 30
END:VEVENT
END:VCALENDAR
