BEGIN:VCALENDAR
VERSION:2.0
PRODID:icalendar-ruby
CALSCALE:GREGORIAN
METHOD:PUBLISH
BEGIN:VEVENT
DTSTAMP:20260419T183549Z
UID:5-389153@revivecentralcoast.com
DTSTART:20260913T170000Z
DTEND:20260913T180000Z
CLASS:PUBLIC
CREATED:20260419T093922
DESCRIPTION:Sunday Worship
LAST-MODIFIED:20260419T093922
LOCATION:
SUMMARY:Sunday Worship
URL;VALUE=URI:https://revivecentralcoast.com/events/sunday-worship/2026-09-
 13
END:VEVENT
END:VCALENDAR
