BEGIN:VCALENDAR
VERSION:2.0
PRODID:icalendar-ruby
CALSCALE:GREGORIAN
METHOD:PUBLISH
BEGIN:VEVENT
DTSTAMP:20260420T000319Z
UID:5-389417@revivecentralcoast.com
DTSTART:20261011T170000Z
DTEND:20261011T180000Z
CLASS:PUBLIC
CREATED:20260419T132145
DESCRIPTION:Sunday Worship
LAST-MODIFIED:20260419T132145
LOCATION:
SUMMARY:Sunday Worship
URL;VALUE=URI:https://revivecentralcoast.com/events/sunday-worship/2026-10-
 11
END:VEVENT
END:VCALENDAR
