BEGIN:VCALENDAR
VERSION:2.0
PRODID:icalendar-ruby
CALSCALE:GREGORIAN
METHOD:PUBLISH
BEGIN:VEVENT
DTSTAMP:20260420T030920Z
UID:5-389680@revivecentralcoast.com
DTSTART:20261025T170000Z
DTEND:20261025T180000Z
CLASS:PUBLIC
CREATED:20260419T170407
DESCRIPTION:Sunday Worship
LAST-MODIFIED:20260419T170407
LOCATION:
SUMMARY:Sunday Worship
URL;VALUE=URI:https://revivecentralcoast.com/events/sunday-worship/2026-10-
 25
END:VEVENT
END:VCALENDAR
